BEGIN:VCALENDAR
VERSION:2.0
PRODID:http://pfarrei-rothenkirchen.de
BEGIN:VEVENT
UID:0199a955-2ce0-11f1-a15b-0242ac11002b-1777395600000-de
DTSTAMP:20260331T090003Z
DTSTART:20260428T170000Z
DTEND:20260428T180000Z
SUMMARY;LANGUAGE=de:Eucharistiefeier
END:VEVENT
END:VCALENDAR
