BEGIN:VCALENDAR
VERSION:2.0
PRODID:http://pfarrei-rothenkirchen.de
BEGIN:VEVENT
UID:020ba508-2ce0-11f1-a15b-0242ac11002b-1777359600000-de
DTSTAMP:20260331T090004Z
DTSTART:20260428T070000Z
DTEND:20260428T080000Z
SUMMARY;LANGUAGE=de:Eucharistiefeier
END:VEVENT
END:VCALENDAR
