BEGIN:VCALENDAR
VERSION:2.0
PRODID:http://pfarrei-rothenkirchen.de
BEGIN:VEVENT
UID:022c0d2a-3197-11f1-a8bf-0242ac11002b-1777910400000-de
DTSTAMP:20260406T090007Z
DTSTART:20260504T160000Z
DTEND:20260504T170000Z
SUMMARY;LANGUAGE=de:Eucharistiefeier
END:VEVENT
END:VCALENDAR
