BEGIN:VCALENDAR
VERSION:2.0
PRODID:http://pfarrei-rothenkirchen.de
BEGIN:VEVENT
UID:026846f7-36a8-11f1-a8bf-0242ac11002b-1778396400000-de
DTSTAMP:20260412T194424Z
DTSTART:20260510T070000Z
DTEND:20260510T080000Z
SUMMARY;LANGUAGE=de:Eucharistiefeier
DESCRIPTION;LANGUAGE=de:f. d. Pfarrgemeinde
END:VEVENT
END:VCALENDAR
