BEGIN:VCALENDAR
VERSION:2.0
PRODID:http://pfarrei-rothenkirchen.de
BEGIN:VEVENT
UID:0286893d-3197-11f1-a8bf-0242ac11002b-1777908600000-de
DTSTAMP:20260406T090007Z
DTSTART:20260504T153000Z
DTEND:20260504T160000Z
SUMMARY;LANGUAGE=de:Aussetzung des Allerheiligsten
END:VEVENT
END:VCALENDAR
