BEGIN:VCALENDAR
VERSION:2.0
PRODID:http://pfarrei-rothenkirchen.de
BEGIN:VEVENT
UID:029ac8b7-36a8-11f1-a8bf-0242ac11002b-1778139000000-de
DTSTAMP:20260412T194425Z
DTSTART:20260507T073000Z
DTEND:20260507T083000Z
SUMMARY;LANGUAGE=de:Eucharistiefeier
DESCRIPTION;LANGUAGE=de:anschl. eucharistische Anbetung\, ca. 17:00 Abschluss mit dem eucharistischen Segen
END:VEVENT
END:VCALENDAR
