BEGIN:VCALENDAR
VERSION:2.0
PRODID:http://pfarrei-rothenkirchen.de
BEGIN:VEVENT
UID:02b52e91-36a8-11f1-a8bf-0242ac11002b-1778245200000-de
DTSTAMP:20260412T194425Z
DTSTART:20260508T130000Z
DTEND:20260508T133000Z
SUMMARY;LANGUAGE=de:Barmherzigkeitsrosenkranz
END:VEVENT
END:VCALENDAR
