BEGIN:VCALENDAR
VERSION:2.0
PRODID:http://pfarrei-rothenkirchen.de
BEGIN:VEVENT
UID:02e8739e-36a8-11f1-a8bf-0242ac11002b-1777640400000-de
DTSTAMP:20260412T194425Z
DTSTART:20260501T130000Z
DTEND:20260501T133000Z
SUMMARY;LANGUAGE=de:Barmherzigkeitsrosenkranz
END:VEVENT
END:VCALENDAR
