BEGIN:VCALENDAR
VERSION:2.0
PRODID:http://pfarrei-rothenkirchen.de
BEGIN:VEVENT
UID:02ef52c8-3b05-11f1-a8bf-0242ac11002b-1778945400000-de
DTSTAMP:20260418T090013Z
DTSTART:20260516T153000Z
DTEND:20260516T163000Z
SUMMARY;LANGUAGE=de:Hl. Messe an der Steingrube
END:VEVENT
END:VCALENDAR
