BEGIN:VCALENDAR
VERSION:2.0
PRODID:http://pfarrei-rothenkirchen.de
BEGIN:VEVENT
UID:039184f0-36a8-11f1-a8bf-0242ac11002b-1778169600000-de
DTSTAMP:20260412T194426Z
DTSTART:20260507T160000Z
DTEND:20260507T170000Z
SUMMARY;LANGUAGE=de:kath. Wort-Gottes-Feier
DESCRIPTION;LANGUAGE=de:in der Klinikkapelle
END:VEVENT
END:VCALENDAR
