BEGIN:VCALENDAR
VERSION:2.0
PRODID:http://pfarrei-rothenkirchen.de
BEGIN:VEVENT
UID:04066858-3b05-11f1-a8bf-0242ac11002b-1778927400000-de
DTSTAMP:20260418T090015Z
DTSTART:20260516T103000Z
DTEND:20260516T120000Z
SUMMARY;LANGUAGE=de:Trauung Anna-Maria Martin & Jonas Dinkel
END:VEVENT
END:VCALENDAR
