BEGIN:VCALENDAR
VERSION:2.0
PRODID:http://pfarrei-rothenkirchen.de
BEGIN:VEVENT
UID:04508c26-2ce0-11f1-a15b-0242ac11002b-1777393800000-de
DTSTAMP:20260331T090008Z
DTSTART:20260428T163000Z
DTEND:20260428T173000Z
SUMMARY;LANGUAGE=de:Eucharistiefeier
DESCRIPTION;LANGUAGE=de:und Anbetung
END:VEVENT
END:VCALENDAR
