BEGIN:VCALENDAR
VERSION:2.0
PRODID:http://pfarrei-rothenkirchen.de
BEGIN:VEVENT
UID:04602b45-3197-11f1-a8bf-0242ac11002b-1777870800000-de
DTSTAMP:20260406T090010Z
DTSTART:20260504T050000Z
DTEND:20260504T060000Z
SUMMARY;LANGUAGE=de:Eucharistiefeier
END:VEVENT
END:VCALENDAR
