BEGIN:VCALENDAR
VERSION:2.0
PRODID:http://pfarrei-rothenkirchen.de
BEGIN:VEVENT
UID:046a4ba7-364e-11f1-a8bf-0242ac11002b-1778428800000-de
DTSTAMP:20260412T090013Z
DTSTART:20260510T160000Z
DTEND:20260510T170000Z
SUMMARY;LANGUAGE=de:Feierliche Maiandacht
END:VEVENT
END:VCALENDAR
