BEGIN:VCALENDAR
VERSION:2.0
PRODID:http://pfarrei-rothenkirchen.de
BEGIN:VEVENT
UID:052238c6-3b05-11f1-a8bf-0242ac11002b-1778945400000-de
DTSTAMP:20260418T090017Z
DTSTART:20260516T153000Z
DTEND:20260516T163000Z
SUMMARY;LANGUAGE=de:ökumenischer Gottesdienst zur Einheit der Christen
DESCRIPTION;LANGUAGE=de:für den gesamten Seelsorgebereich; mitgestaltet von der Singgruppe Altenbanz / Banz
END:VEVENT
END:VCALENDAR
