BEGIN:VCALENDAR
VERSION:2.0
PRODID:http://pfarrei-rothenkirchen.de
BEGIN:VEVENT
UID:05b99552-36a8-11f1-a8bf-0242ac11002b-1777132800000-de
DTSTAMP:20260412T194430Z
DTSTART:20260425T160000Z
DTEND:20260425T170000Z
SUMMARY;LANGUAGE=de:Markusprozession mit Eucharistiefeier
DESCRIPTION;LANGUAGE=de:18:00 Prozession durch Rodheim mit euch. Herrn anschl. Eucharistiefeier
END:VEVENT
END:VCALENDAR
