BEGIN:VCALENDAR
VERSION:2.0
PRODID:http://pfarrei-rothenkirchen.de
BEGIN:VEVENT
UID:05d21958-364e-11f1-a8bf-0242ac11002b-1778394600000-de
DTSTAMP:20260412T090015Z
DTSTART:20260510T063000Z
DTEND:20260510T073000Z
SUMMARY;LANGUAGE=de:Pfarrgottesdienst
END:VEVENT
END:VCALENDAR
