BEGIN:VCALENDAR
VERSION:2.0
PRODID:http://pfarrei-rothenkirchen.de
BEGIN:VEVENT
UID:06045b81-3b05-11f1-a8bf-0242ac11002b-1778947200000-de
DTSTAMP:20260418T090018Z
DTSTART:20260516T160000Z
DTEND:20260516T170000Z
SUMMARY;LANGUAGE=de:Eucharistiefeier
END:VEVENT
END:VCALENDAR
