BEGIN:VCALENDAR
VERSION:2.0
PRODID:http://pfarrei-rothenkirchen.de
BEGIN:VEVENT
UID:062b6a07-36a8-11f1-a8bf-0242ac11002b-1777554000000-de
DTSTAMP:20260412T194431Z
DTSTART:20260430T130000Z
DTEND:20260430T140000Z
SUMMARY;LANGUAGE=de:Wort-Gottes-Feier
DESCRIPTION;LANGUAGE=de:Hospitalstiftung
END:VEVENT
END:VCALENDAR
