BEGIN:VCALENDAR
VERSION:2.0
PRODID:http://pfarrei-rothenkirchen.de
BEGIN:VEVENT
UID:06a9c1e2-36a8-11f1-a8bf-0242ac11002b-1777449600000-de
DTSTAMP:20260412T194431Z
DTSTART:20260429T080000Z
DTEND:20260429T090000Z
SUMMARY;LANGUAGE=de:Eucharistiefeier
END:VEVENT
END:VCALENDAR
