BEGIN:VCALENDAR
VERSION:2.0
PRODID:http://pfarrei-rothenkirchen.de
BEGIN:VEVENT
UID:06ca4238-36a8-11f1-a8bf-0242ac11002b-1777791600000-de
DTSTAMP:20260412T194432Z
DTSTART:20260503T070000Z
DTEND:20260503T080000Z
SUMMARY;LANGUAGE=de:Wort-Gottes-Feier
END:VEVENT
END:VCALENDAR
