BEGIN:VCALENDAR
VERSION:2.0
PRODID:http://pfarrei-rothenkirchen.de
BEGIN:VEVENT
UID:08735e9d-36a8-11f1-a8bf-0242ac11002b-1778401800000-de
DTSTAMP:20260412T194434Z
DTSTART:20260510T083000Z
DTEND:20260510T093000Z
SUMMARY;LANGUAGE=de:Eucharistiefeier
END:VEVENT
END:VCALENDAR
