BEGIN:VCALENDAR
VERSION:2.0
PRODID:http://pfarrei-rothenkirchen.de
BEGIN:VEVENT
UID:09cb75fd-3b05-11f1-a8bf-0242ac11002b-1778943600000-de
DTSTAMP:20260418T090025Z
DTSTART:20260516T150000Z
DTEND:20260516T160000Z
SUMMARY;LANGUAGE=de:Wort-Gottes-Feier
DESCRIPTION;LANGUAGE=de:mit Gebetsgedenken an + Werner Dauer und Eltern
END:VEVENT
END:VCALENDAR
