BEGIN:VCALENDAR
VERSION:2.0
PRODID:http://pfarrei-rothenkirchen.de
BEGIN:VEVENT
UID:09d3ff2b-36a8-11f1-a8bf-0242ac11002b-1777708800000-de
DTSTAMP:20260412T194437Z
DTSTART:20260502T080000Z
DTEND:20260502T090000Z
SUMMARY;LANGUAGE=de:Feierliche Erstkommunion
DESCRIPTION;LANGUAGE=de:musikalisch begleitet von "Mission Possible"
END:VEVENT
END:VCALENDAR
