BEGIN:VCALENDAR
VERSION:2.0
PRODID:http://pfarrei-rothenkirchen.de
BEGIN:VEVENT
UID:0a4f22b0-36a8-11f1-a8bf-0242ac11002b-1778344200000-de
DTSTAMP:20260412T194438Z
DTSTART:20260509T163000Z
DTEND:20260509T173000Z
SUMMARY;LANGUAGE=de:Eucharistiefeier
END:VEVENT
END:VCALENDAR
