BEGIN:VCALENDAR
VERSION:2.0
PRODID:http://pfarrei-rothenkirchen.de
BEGIN:VEVENT
UID:0a7a0349-36a8-11f1-a8bf-0242ac11002b-1778229000000-de
DTSTAMP:20260412T194438Z
DTSTART:20260508T083000Z
DTEND:20260508T093000Z
SUMMARY;LANGUAGE=de:Wort-Gottes-Feier
DESCRIPTION;LANGUAGE=de:in der Seniorenresidenz
END:VEVENT
END:VCALENDAR
