BEGIN:VCALENDAR
VERSION:2.0
PRODID:http://pfarrei-rothenkirchen.de
BEGIN:VEVENT
UID:0acabb6b-36a8-11f1-a8bf-0242ac11002b-1778226300000-de
DTSTAMP:20260412T194438Z
DTSTART:20260508T074500Z
DTEND:20260508T084500Z
SUMMARY;LANGUAGE=de:Wort-Gottes-Feier
DESCRIPTION;LANGUAGE=de:im Marie-Juchacz-Heim
END:VEVENT
END:VCALENDAR
