BEGIN:VCALENDAR
VERSION:2.0
PRODID:http://pfarrei-rothenkirchen.de
BEGIN:VEVENT
UID:26ef8881-3bce-11f1-a8bf-0242ac11002b-1778995800000-de
DTSTAMP:20260419T090002Z
DTSTART:20260517T053000Z
DTEND:20260517T063000Z
SUMMARY;LANGUAGE=de:Eucharistiefeier
END:VEVENT
END:VCALENDAR
