BEGIN:VCALENDAR
VERSION:2.0
PRODID:http://pfarrei-rothenkirchen.de
BEGIN:VEVENT
UID:27140077-3bce-11f1-a8bf-0242ac11002b-1779004800000-de
DTSTAMP:20260419T090003Z
DTSTART:20260517T080000Z
DTEND:20260517T090000Z
SUMMARY;LANGUAGE=de:Kirchweihgottesdienst
DESCRIPTION;LANGUAGE=de:im Festzelt mit Jubiläum 150 Jahre Freiwillige Feuerwehr Bug. Mit der Urban's Project Band
END:VEVENT
END:VCALENDAR
