BEGIN:VCALENDAR
VERSION:2.0
PRODID:http://pfarrei-rothenkirchen.de
BEGIN:VEVENT
UID:27f21d97-3717-11f1-a8bf-0242ac11002b-1778517000000-de
DTSTAMP:20260413T090001Z
DTSTART:20260511T163000Z
DTEND:20260511T180000Z
SUMMARY;LANGUAGE=de:Ökumenischer Gottesdienst
DESCRIPTION;LANGUAGE=de:zur Amtseinführung von Oberbürgermeister Sebastian Niedermaier und Landrat Johannes Maciejonczyk. Zusammen mit Pfarrer Walter Neunhoeffer. Musikalisch mitgestaltet vom Polizeisängerchor
END:VEVENT
END:VCALENDAR
