BEGIN:VCALENDAR
VERSION:2.0
PRODID:http://pfarrei-rothenkirchen.de
BEGIN:VEVENT
UID:28426e80-3bce-11f1-a8bf-0242ac11002b-1779003000000-de
DTSTAMP:20260419T090004Z
DTSTART:20260517T073000Z
DTEND:20260517T083000Z
SUMMARY;LANGUAGE=de:Eucharistiefeier
DESCRIPTION;LANGUAGE=de:anschl. Kirchenkaffee
END:VEVENT
END:VCALENDAR
