BEGIN:VCALENDAR
VERSION:2.0
PRODID:http://pfarrei-rothenkirchen.de
BEGIN:VEVENT
UID:29a47984-3260-11f1-a8bf-0242ac11002b-1777998600000-de
DTSTAMP:20260407T090002Z
DTSTART:20260505T163000Z
DTEND:20260505T173000Z
SUMMARY;LANGUAGE=de:Maiandacht des KDFB und Pray & Qigong mit Dr. Andrea Friedrich
END:VEVENT
END:VCALENDAR
