BEGIN:VCALENDAR
VERSION:2.0
PRODID:http://pfarrei-rothenkirchen.de
BEGIN:VEVENT
UID:2ac2f008-3717-11f1-a8bf-0242ac11002b-1778509800000-de
DTSTAMP:20260413T090006Z
DTSTART:20260511T143000Z
DTEND:20260511T153000Z
SUMMARY;LANGUAGE=de:Eucharistiefeier
END:VEVENT
END:VCALENDAR
