BEGIN:VCALENDAR
VERSION:2.0
PRODID:http://pfarrei-rothenkirchen.de
BEGIN:VEVENT
UID:2b45006a-3bce-11f1-a8bf-0242ac11002b-1779012000000-de
DTSTAMP:20260419T090010Z
DTSTART:20260517T100000Z
DTEND:20260517T110000Z
SUMMARY;LANGUAGE=de:Eucharistiefeier in kroatischer Sprache
END:VEVENT
END:VCALENDAR
