BEGIN:VCALENDAR
VERSION:2.0
PRODID:http://pfarrei-rothenkirchen.de
BEGIN:VEVENT
UID:2c25a65d-3260-11f1-a8bf-0242ac11002b-1777998600000-de
DTSTAMP:20260407T090006Z
DTSTART:20260505T163000Z
DTEND:20260505T173000Z
SUMMARY;LANGUAGE=de:Eucharistiefeier
DESCRIPTION;LANGUAGE=de:und Anbetung
END:VEVENT
END:VCALENDAR
