BEGIN:VCALENDAR
VERSION:2.0
PRODID:http://pfarrei-rothenkirchen.de
BEGIN:VEVENT
UID:2d5e4d9e-3260-11f1-a8bf-0242ac11002b-1777996800000-de
DTSTAMP:20260407T090008Z
DTSTART:20260505T160000Z
DTEND:20260505T170000Z
SUMMARY;LANGUAGE=de:Eucharistiefeier
END:VEVENT
END:VCALENDAR
