BEGIN:VCALENDAR
VERSION:2.0
PRODID:http://pfarrei-rothenkirchen.de
BEGIN:VEVENT
UID:2dabd169-3260-11f1-a8bf-0242ac11002b-1778002200000-de
DTSTAMP:20260407T090008Z
DTSTART:20260505T173000Z
DTEND:20260505T180000Z
SUMMARY;LANGUAGE=de:ökumenisches Taize-Gebet
END:VEVENT
END:VCALENDAR
