BEGIN:VCALENDAR
VERSION:2.0
PRODID:http://pfarrei-rothenkirchen.de
BEGIN:VEVENT
UID:2f6d4d96-3bce-11f1-a8bf-0242ac11002b-1779022800000-de
DTSTAMP:20260419T090017Z
DTSTART:20260517T130000Z
DTEND:20260517T140000Z
SUMMARY;LANGUAGE=de:Mai-Andacht der Frauenkreise
END:VEVENT
END:VCALENDAR
