BEGIN:VCALENDAR
VERSION:2.0
PRODID:http://pfarrei-rothenkirchen.de
BEGIN:VEVENT
UID:2f7fe62c-2da9-11f1-a8bf-0242ac11002b-1777478400000-de
DTSTAMP:20260401T090009Z
DTSTART:20260429T160000Z
DTEND:20260429T170000Z
SUMMARY;LANGUAGE=de:Eucharistiefeier
DESCRIPTION;LANGUAGE=de:anschl. Künstlerinnen-Gespräch zum Kunstwerk "Pilger der Hoffnung"
END:VEVENT
END:VCALENDAR
