BEGIN:VCALENDAR
VERSION:2.0
PRODID:http://pfarrei-rothenkirchen.de
BEGIN:VEVENT
UID:32585abb-2da9-11f1-a8bf-0242ac11002b-1777446000000-de
DTSTAMP:20260401T090014Z
DTSTART:20260429T070000Z
DTEND:20260429T080000Z
SUMMARY;LANGUAGE=de:Eucharistiefeier
END:VEVENT
END:VCALENDAR
