BEGIN:VCALENDAR
VERSION:2.0
PRODID:http://pfarrei-rothenkirchen.de
BEGIN:VEVENT
UID:3391f0d1-3bce-11f1-a8bf-0242ac11002b-1779019200000-de
DTSTAMP:20260419T090023Z
DTSTART:20260517T120000Z
DTEND:20260517T130000Z
SUMMARY;LANGUAGE=de:Hl. Messe zum Kirchweihfest
END:VEVENT
END:VCALENDAR
