BEGIN:VCALENDAR
VERSION:2.0
PRODID:http://pfarrei-rothenkirchen.de
BEGIN:VEVENT
UID:33bb943e-2da9-11f1-a8bf-0242ac11002b-1777438800000-de
DTSTAMP:20260401T090016Z
DTSTART:20260429T050000Z
DTEND:20260429T060000Z
SUMMARY;LANGUAGE=de:Eucharistiefeier
END:VEVENT
END:VCALENDAR
