BEGIN:VCALENDAR
VERSION:2.0
PRODID:http://pfarrei-rothenkirchen.de
BEGIN:VEVENT
UID:340479d4-3717-11f1-a8bf-0242ac11002b-1778518800000-de
DTSTAMP:20260413T090022Z
DTSTART:20260511T170000Z
DTEND:20260511T180000Z
SUMMARY;LANGUAGE=de:Ökumenischer Bibelkreis
DESCRIPTION;LANGUAGE=de:im kath. Pfarrheim Hallstadt
END:VEVENT
END:VCALENDAR
