BEGIN:VCALENDAR
VERSION:2.0
PRODID:http://pfarrei-rothenkirchen.de
BEGIN:VEVENT
UID:358868fb-3bce-11f1-a8bf-0242ac11002b-1779006600000-de
DTSTAMP:20260419T090027Z
DTSTART:20260517T083000Z
DTEND:20260517T093000Z
SUMMARY;LANGUAGE=de:Eucharistiefeier
DESCRIPTION;LANGUAGE=de:zur Kirchweih
END:VEVENT
END:VCALENDAR
