BEGIN:VCALENDAR
VERSION:2.0
PRODID:http://pfarrei-rothenkirchen.de
BEGIN:VEVENT
UID:3981903a-3bce-11f1-a8bf-0242ac11002b-1778999400000-de
DTSTAMP:20260419T090033Z
DTSTART:20260517T063000Z
DTEND:20260517T073000Z
SUMMARY;LANGUAGE=de:Hl. Messe zum Hochfest Christi Himmelfahrt mit Fahrzeugsegnung
END:VEVENT
END:VCALENDAR
