BEGIN:VCALENDAR
VERSION:2.0
PRODID:http://pfarrei-rothenkirchen.de
BEGIN:VEVENT
UID:3b4894dd-3bce-11f1-a8bf-0242ac11002b-1779030000000-de
DTSTAMP:20260419T090036Z
DTSTART:20260517T150000Z
DTEND:20260517T160000Z
SUMMARY;LANGUAGE=de:Festgottesdienst mit Fatimaprozession
END:VEVENT
END:VCALENDAR
