BEGIN:VCALENDAR
VERSION:2.0
PRODID:http://pfarrei-rothenkirchen.de
BEGIN:VEVENT
UID:51100b3e-3c97-11f1-a8bf-0242ac11002b-1779084000000-de
DTSTAMP:20260420T090002Z
DTSTART:20260518T060000Z
DTEND:20260518T070000Z
SUMMARY;LANGUAGE=de:Eucharistiefeier (Domkapitel)
END:VEVENT
END:VCALENDAR
