BEGIN:VCALENDAR
VERSION:2.0
PRODID:http://pfarrei-rothenkirchen.de
BEGIN:VEVENT
UID:54d242cd-3c97-11f1-a8bf-0242ac11002b-1779080400000-de
DTSTAMP:20260420T090008Z
DTSTART:20260518T050000Z
DTEND:20260518T060000Z
SUMMARY;LANGUAGE=de:Eucharistiefeier
END:VEVENT
END:VCALENDAR
