BEGIN:VCALENDAR
VERSION:2.0
PRODID:http://pfarrei-rothenkirchen.de
BEGIN:VEVENT
UID:55ba98a3-37e0-11f1-a8bf-0242ac11002b-1778603400000-de
DTSTAMP:20260414T090007Z
DTSTART:20260512T163000Z
DTEND:20260512T173000Z
SUMMARY;LANGUAGE=de:Eucharistiefeier
DESCRIPTION;LANGUAGE=de:und Anbetung
END:VEVENT
END:VCALENDAR
