BEGIN:VCALENDAR
VERSION:2.0
PRODID:http://pfarrei-rothenkirchen.de
BEGIN:VEVENT
UID:56ec2235-3c97-11f1-a8bf-0242ac11002b-1779119400000-de
DTSTAMP:20260420T090012Z
DTSTART:20260518T155000Z
DTEND:20260518T165000Z
SUMMARY;LANGUAGE=de:Eucharistischer Segen
END:VEVENT
END:VCALENDAR
